BEGIN:VCALENDAR
VERSION:2.0
PRODID:-//Library Market//iCal Export//EN
BEGIN:VEVENT
SUMMARY:Movement and Mindfulness
UID:29024
DTSTAMP:20260422T171700Z
DTSTART:20260630T143000Z
DTEND:20260630T150000Z
LOCATION:Paul Pratt Memorial Library, 35 Ripley Road, Cohasset, MA 02025, 
 United States
ROOM: Meeting Room
DESCRIPTION:Please register each child and caregiver separatelyLearn to co
 nnect mind and body through storytelling, breathwork and games in this Mov
 ement and Mindfulness series designed for young children and their famili
 es. In this weekly program, we will read stories, stretch and move our bod
 ies through play, as well as learn to breathe deeply, all in an effort to 
 establish connection with others and peace within. Ages 4 and under with c
 aregiver. Funded by the Friends of the Cohasset LibraryPlease let us know
  if you need to cancel or cancel onlineThe Massachusetts Statewide Summer 
 Library Program is funded by the PPML, the Friends of the Cohasset Library
 , the Massachusetts Library System, the Boston Bruins, and the Massachuset
 ts Board of Library Commissioners.
URL:https://paulprattlibrary.librarymarket.com/event/movement-and-mindfuln
 ess-29024
END:VEVENT
END:VCALENDAR
