BEGIN:VCALENDAR
VERSION:2.0
PRODID:-//Library Market//iCal Export//EN
BEGIN:VEVENT
SUMMARY:Summer Reading Wrap-Up Party with Nona&#039;s
UID:28497
DTSTAMP:20260421T050200Z
DTSTART:20260811T200000Z
DTEND:20260811T204500Z
LOCATION:Paul Pratt Memorial Library, 35 Ripley Road, Cohasset, MA 02025, 
 United States
ROOM: Summer Reading Wrap-Up Party with Nona&#039;s
DESCRIPTION:Help us celebrate another great summer of reading by returning
  you summer reading log and receiving a treat from Nona&#039;s Ice Cream T
 ruck courtesy of the friends of the Cohasset Library.&quot;The Massachuset
 ts Statewide Summer Library Program is funded by the Massachusetts Library
  System, the Boston Bruins, and the Massachusetts Board of Library Commiss
 ioners.&quot;
URL:https://paulprattlibrary.librarymarket.com/event/summer-reading-wrap-p
 arty-nonas-28497
END:VEVENT
END:VCALENDAR
