BEGIN:VCALENDAR
VERSION:2.0
PRODID:-//Library Market//iCal Export//EN
BEGIN:VEVENT
SUMMARY:Summer Reading Kickoff with Kona Ice!
UID:28491
DTSTAMP:20260422T222200Z
DTSTART:20260622T200000Z
DTEND:20260622T210000Z
LOCATION:Paul Pratt Memorial Library, 35 Ripley Road, Cohasset, MA 02025, 
 United States
ROOM: Summer Reading Kickoff with Kona Ice!
DESCRIPTION:Sign up for Summer Reading 2026 and get a free snow cone from 
 Kona Ice courtesy of the Friends of the Cohasset Library! The Massachuset
 ts Statewide Summer Library Program is funded by the PPML, Friends of the 
 Cohasset Library, Massachusetts Library System, the Boston Bruins, and the
  Massachusetts Board of Library Commissioners.
URL:https://paulprattlibrary.librarymarket.com/event/summer-reading-kickof
 f-kona-ice-28491
END:VEVENT
END:VCALENDAR
