BEGIN:VCALENDAR
VERSION:2.0
PRODID:-//Library Market//iCal Export//EN
BEGIN:VEVENT
SUMMARY:Sprouting Tales with Diane Edgecomb
UID:28490
DTSTAMP:20260424T004700Z
DTSTART:20260714T200000Z
DTEND:20260714T210000Z
LOCATION:Paul Pratt Memorial Library, 35 Ripley Road, Cohasset, MA 02025, 
 United States
ROOM: Under the Tent
DESCRIPTION:Join us on July 14th from 4:00-5:00 Under the Tent to listen t
 o Diane&#039;s Sprouting Tales! Diane’s interactive stories of nature a
 nd gardening fun include Talking Earthworms, Sprouting seeds and a join-in
  Story-Song of how the Star in the Apple came to be. The Massachusetts St
 atewide Summer Library Program is funded by the PPML, the Friends of the C
 ohasset Library, the Massachusetts Library System, the Boston Bruins, and 
 the Massachusetts Board of Library Commissioners.
URL:https://paulprattlibrary.librarymarket.com/event/sprouting-tales-diane
 -edgecomb-28490
END:VEVENT
END:VCALENDAR
