BEGIN:VCALENDAR
VERSION:2.0
PRODID:-//Library Market//iCal Export//EN
BEGIN:VEVENT
SUMMARY:Drop-In Tech Help 💻📱
UID:29117
DTSTAMP:20260423T060700Z
DTSTART:20260613T143000Z
DTEND:20260613T160000Z
LOCATION:Paul Pratt Memorial Library, 35 Ripley Road, Cohasset, MA 02025, 
 United States
ROOM: Drop-In Tech Help 💻📱
DESCRIPTION:Drop-In Tech Help – your go-to destination for all your tech
 -related queries and conundrums! If you need help with setting up your new
  device, troubleshooting pesky software glitches, accessing and using soci
 al media, or any other technology related question, our wonderful teen tec
 h helper is here to assist you every step of the way.The tech helper will 
 be available from 10:30 to 12:00pm by the public computers.    
URL:https://paulprattlibrary.librarymarket.com/index.php/event/drop-tech-h
 elp-29117
END:VEVENT
END:VCALENDAR
