BEGIN:VCALENDAR
VERSION:2.0
PRODID:-//Library Market//iCal Export//EN
BEGIN:VEVENT
SUMMARY:NEW!!! Open Play for Kids
UID:28972
DTSTAMP:20260420T000000Z
DTSTART:20260710T143000Z
DTEND:20260710T153000Z
LOCATION:Paul Pratt Memorial Library, 35 Ripley Road, Cohasset, MA 02025, 
 United States
ROOM: Meeting Room
DESCRIPTION:NEW at the library!! Come to the Meeting Room every Friday mor
 ning from 10:30-11:30 for some unstructured Open Play! Make music, build w
 ith blocks, put on your own puppet show - let your creativity and imaginat
 ion shine!Caregivers must remain with children AT ALL TIMES. Best suited f
 or children aged 0-5 but all are welcome. No registration required. The M
 assachusetts Statewide Summer Library Program is funded by the PPML, the F
 riends of the Cohasset Library, the Massachusetts Library System, the Bost
 on Bruins, and the Massachusetts Board of Library Commissioners.
URL:https://paulprattlibrary.librarymarket.com/index.php/event/new-open-pl
 ay-kids-28972
END:VEVENT
END:VCALENDAR
