BEGIN:VCALENDAR
VERSION:2.0
PRODID:-//Library Market//iCal Export//EN
BEGIN:VEVENT
SUMMARY:Storytime with Mrs. Moody
UID:28610
DTSTAMP:20260421T173600Z
DTSTART:20260625T143000Z
DTEND:20260625T150000Z
LOCATION:Paul Pratt Memorial Library, 35 Ripley Road, Cohasset, MA 02025, 
 United States
ROOM: Under the Tent
DESCRIPTION:Join us Under the Tent for story adventures and more. All ages
  and communities welcome! The Massachusetts Statewide Summer Library Prog
 ram is funded by the PPML, the Friends of the Cohasset Library, the Massac
 husetts Library System, the Boston Bruins, and the Massachusetts Board of 
 Library Commissioners.
URL:https://paulprattlibrary.librarymarket.com/index.php/event/storytime-m
 rs-moody-28610
END:VEVENT
END:VCALENDAR
