BEGIN:VCALENDAR
VERSION:2.0
PRODID:-//Library Market//iCal Export//EN
BEGIN:VEVENT
SUMMARY:Farm Visits
UID:28498
DTSTAMP:20260420T042100Z
DTSTART:20260728T193000Z
DTEND:20260728T213000Z
LOCATION:Paul Pratt Memorial Library, 35 Ripley Road, Cohasset, MA 02025, 
 United States
ROOM: Under the Tent
DESCRIPTION:Join us for a special visit from Farm Visits! Families will ha
 ve the opportunity to meet and gently interact with a variety of friendly 
 baby farm animals, including bunnies, chicks, goats, and more. This hands-
 on experience is a fun and engaging way for children to learn about animal
 s up close.All ages are welcome. No registration required.The Massachusett
 s Statewide Summer Library Program is funded by the PPML, the Friends of t
 he Cohasset Library, the Massachusetts Library System, the Boston Bruins, 
 and the Massachusetts Board of Library Commissioners.
URL:https://paulprattlibrary.librarymarket.com/index.php/event/farm-visits
 -28498
END:VEVENT
END:VCALENDAR
