BEGIN:VCALENDAR
VERSION:2.0
PRODID:-//Library Market//iCal Export//EN
BEGIN:VEVENT
SUMMARY:Awesome Robb&#039;s Awesome Pirate Show!
UID:28494
DTSTAMP:20260421T173600Z
DTSTART:20260623T200000Z
DTEND:20260623T210000Z
LOCATION:Paul Pratt Memorial Library, 35 Ripley Road, Cohasset, MA 02025, 
 United States
ROOM: Under the Tent
DESCRIPTION:Discover the roar of laughter when Captain Robbie Bones shows 
 up with a chest full of Magic and Juggling Apparatus. See how quickly chi
 ldren and adults become shipmates of this must have party entertainer. Ca
 ptain Robbie Bones quickly takes full charge of your gathering and educate
 s them on how to speak pirate and laugh like a rogue!  The Massachusetts
  Statewide Summer Library Program is funded by the PPML, the Friends of th
 e Cohasset Library, the Massachusetts Library System, the Boston Bruins, a
 nd the Massachusetts Board of Library Commissioners.
URL:https://paulprattlibrary.librarymarket.com/index.php/event/awesome-rob
 bs-awesome-pirate-show-28494
END:VEVENT
END:VCALENDAR
